BEGIN:VCALENDAR
VERSION:2.0
PRODID:-//Eventin//Event Calendar//EN
CALSCALE:GREGORIAN
METHOD:PUBLISH
BEGIN:VEVENT
UID:8f22cf9459ed6684a3e8d7e254dd4bf0@connectinggta.com
SUMMARY:Business Summit  & Expo 2026
DESCRIPTION:We are excited to invite you to take part at our Business Summi
 t & Expo 2026\, taking place on September 16\, 2026.\nThis high-impact summ
 it will bring together business owners\, entrepreneurs\, investors\, policy
 makers\, and community leaders for a full day of learning\, networking\, an
 d collaboration. As a booth sponsor\, you will have a unique opportunity to
  showcase your business directly to a highly engaged and relevant audience.
 \nEvent Highlights\nBusiness Summit 2026 Agenda Includes:\n\n\nMorning Regi
 stration & Networking \n\n\nKeynote Address focused on leadership\, resili
 ence\, and preparing for 2026\n\n\nConcurrent Panel Discussions\, including
 :\n\n\nLeadership & Growth in a Changing Economy\n\n\nAffordable Housing & 
 Economic Impact\n\n\nInnovation in Technology\n\n\nFinance & Investment Tre
 nds\n\n\n\n\nThese sessions are designed to drive meaningful conversations 
 and foot traffic throughout the venue—creating strong visibility and enga
 gement for our booth exhibitors.
LOCATION:937 Progress Ave\, Scarborough\, ON M1G 3T8
DTSTAMP:20260420T173022Z
DTSTART:20260916T123000Z
DTEND:20260916T193000Z
END:VEVENT
END:VCALENDAR
