BEGIN:VCALENDAR
VERSION:2.0
PRODID:-//Eventin//Event Calendar//EN
CALSCALE:GREGORIAN
METHOD:PUBLISH
BEGIN:VEVENT
UID:c8f651de266ea4405b3dd23a0418a665@connectinggta.com
SUMMARY:Coffee Chat with CGTA
DESCRIPTION:Join Connecting GTA Networking Club at our member location\, 36
 9 Spaces for an engaging morning designed exclusively for business owners\,
  entrepreneurs\, and professionals.\nThis is your opportunity to step away 
 from the daily grind and connect with like-minded individuals over coffee i
 n a welcoming\, relationship-focused environment.\nWhat to Expect:\n\nMeani
 ngful conversations with local business leaders\nOpportunities to build new
  connections and partnerships\nA chance to share ideas\, insights\, and exp
 eriences\nA supportive space to grow your network organically\n\nWhether yo
 u're looking to expand your reach\, explore collaborations\, or simply meet
  great people in the business community\, this event is the perfect setting
 .\nA special thank you to our annual sponsor\, Computek College\, for suppo
 rting this initiative and helping bring business leaders together. We join 
 them in celebrating their 35th anniversary this year.\nWe encourage you to 
 secure your spot early and be part of this valuable networking experience.
LOCATION:369 Spaces | 100 Westney Rd South Ajax\, ON L1S 7H3
DTSTAMP:20260422T085728Z
DTSTART:20260429T133000Z
DTEND:20260429T153000Z
END:VEVENT
END:VCALENDAR
